BEGIN:VCALENDAR
VERSION:2.0
PRODID:-//Maqasid Institute - ECPv6.15.20//NONSGML v1.0//EN
CALSCALE:GREGORIAN
METHOD:PUBLISH
X-WR-CALNAME:Maqasid Institute
X-ORIGINAL-URL:https://maqasid.org
X-WR-CALDESC:Events for Maqasid Institute
REFRESH-INTERVAL;VALUE=DURATION:PT1H
X-Robots-Tag:noindex
X-PUBLISHED-TTL:PT1H
BEGIN:VTIMEZONE
TZID:Asia/Riyadh
BEGIN:STANDARD
TZOFFSETFROM:+0300
TZOFFSETTO:+0300
TZNAME:+03
DTSTART:20250101T000000
END:STANDARD
END:VTIMEZONE
BEGIN:VTIMEZONE
TZID:America/Toronto
BEGIN:DAYLIGHT
TZOFFSETFROM:-0500
TZOFFSETTO:-0400
TZNAME:EDT
DTSTART:20250309T070000
END:DAYLIGHT
BEGIN:STANDARD
TZOFFSETFROM:-0400
TZOFFSETTO:-0500
TZNAME:EST
DTSTART:20251102T060000
END:STANDARD
BEGIN:DAYLIGHT
TZOFFSETFROM:-0500
TZOFFSETTO:-0400
TZNAME:EDT
DTSTART:20260308T070000
END:DAYLIGHT
BEGIN:STANDARD
TZOFFSETFROM:-0400
TZOFFSETTO:-0500
TZNAME:EST
DTSTART:20261101T060000
END:STANDARD
BEGIN:DAYLIGHT
TZOFFSETFROM:-0500
TZOFFSETTO:-0400
TZNAME:EDT
DTSTART:20270314T070000
END:DAYLIGHT
BEGIN:STANDARD
TZOFFSETFROM:-0400
TZOFFSETTO:-0500
TZNAME:EST
DTSTART:20271107T060000
END:STANDARD
END:VTIMEZONE
BEGIN:VEVENT
DTSTART;TZID=Asia/Riyadh:20260503T170000
DTEND;TZID=Asia/Riyadh:20260503T190000
DTSTAMP:20260424T031436
CREATED:20260423T142113Z
LAST-MODIFIED:20260423T142113Z
UID:11933-1777827600-1777834800@maqasid.org
SUMMARY:Women’s Health Between Reality & Revelation
DESCRIPTION:Join us for a profound discussion with Dr. Sondos Al Sad as we explore the landscape of women’s health through the lens of Maqasid and renewal (Tajdīd). \nDr. Sondos Al Sad: \nDr. Sondos Al Sad is an Academic Clinician\, Family and Community Medicine Faculty\, and Women Health Specialist. She is also a Research Fellow Member at Maqasid Institute. \n🗓️ Event Details:\n* 📅 Date: Sunday\, 3 May 2026\n* 🕔 Time: 5:00 PM (Makkah Time) \n🔍 Session Highlights: \n* Mapping the Landscape: A concise overview of how women’s health is practiced today and the historical factors that shaped this reality.\n* Identifying the Gaps: Surfacing clinical and conceptual gaps where modern models fail to capture the fullness of women’s lived experiences.\n* Maqasid-Based Renewal: Demonstrating how a Maqasid framework can renovate care\, research\, and education to align with higher purposes. \nCLICK HERE TO REGISTER
URL:https://maqasid.org/event/womens-health-between-reality-revelation/
LOCATION:Online via ZOOM
CATEGORIES:Forum
ATTACH;FMTTYPE=image/jpeg:https://maqasid.org/wp-content/uploads/2026/04/Womens-Health-between-Reality-and-Revelation-1.jpg
END:VEVENT
BEGIN:VEVENT
DTSTART;TZID=America/Toronto:20260509T143000
DTEND;TZID=America/Toronto:20260517T173000
DTSTAMP:20260424T031436
CREATED:20260423T003625Z
LAST-MODIFIED:20260423T003625Z
UID:11924-1778337000-1779039000@maqasid.org
SUMMARY:Towards Hayat Al-Tayyibah: Qur'anic Guidance for Good Life
DESCRIPTION:This course explores the concept of Hayyat Al-Tayyibah (Good Life) from an Islamic holistic perspective\, integrating insights from modern psychology\, sociology\, neuroscience\, and Islamic studies. It aims to reconnect participants with the Qur’anic understanding of a good life\, emphasizing timeless values that promote mental\, physical\, and spiritual well-being. Participants will learn how to use the Qur’an as a framework for thinking\, envisioning\, and interpreting the world around them\, moving beyond ritual practice to a deeper understanding of life’s purpose. The course is designed for a general audience and provides practical guidance for personal and community growth. Through this journey\, participants will explore the relationship between faith\, positive psychology\, moral development\, and overall life satisfaction\, ultimately learning how to cultivate balanced\, meaningful\, and purposeful lives. \nSchedule : \nLive sessions (Makkah Time — UTC+3): \n\nMay 9 — 2:30 PM\nMay 10 — 2:30 PM\nMay 16 — 2:30 PM\nMay 17 — 2:30 PM\n\nClick here for more information \nCLICK HERE TO REGISTER
URL:https://maqasid.org/event/towards-hayat-al-tayyibah/
CATEGORIES:Course
ATTACH;FMTTYPE=image/jpeg:https://maqasid.org/wp-content/uploads/2026/04/WhatsApp-Image-2026-04-21-at-5.01.12-PM.jpeg
END:VEVENT
BEGIN:VEVENT
DTSTART;TZID=Asia/Riyadh:20260826T000000
DTEND;TZID=Asia/Riyadh:20260827T000000
DTSTAMP:20260424T031436
CREATED:20260331T041611Z
LAST-MODIFIED:20260423T003953Z
UID:11745-1787702400-1787788800@maqasid.org
SUMMARY:The International Conference on Maqasid Al-Wahy (MAFIS 2026)
DESCRIPTION:Theme: Operationalising Tawhidic Teleological Methodologies for the Islamic Human-Acquired Sciences. \nOverview\nMAFIS 2026 aims to move beyond theoretical discourse into operational research methodologies\, addressing gaps in problem formulation\, design\, and data interpretation shaped by Tawhidic principles. \nImportant Dates\n\n\nAbstract Submission Deadline: July 12\, 2026 \n\n\nPayment Confirmation Deadline: August 6\, 2026 \n\n\n1st Phase Full Paper Collection: August 16\, 2026 \n\n\nConference Dates (Virtual): August 26–27\, 2026 \n\n\nFields of Study\n\n\nIslamic Finance & Economics \n\n\nIslamic Psychology & Behavioral Sciences \n\n\nEnvironmental Studies & Sustainability \n\n\nNatural Sciences & Complexity Studies \n\n\nIslamic Political Thought\, Law\, and Governance \n\n\nPublication Opportunities\n\n\nConference Proceedings: All accepted abstracts will be published in an e-book with a DOI. \n\n\nIndexed Journals: Selected full papers will be recommended for publication in Scopus Q1 and Q2 indexed journals (F1000Research) and other peer-reviewed international journals. \n\n\nConference Fee\n\n\n150 USD for presenting the paper. \n\n\nHow to Apply\n\n\nSubmissions Portal: https://www.researchsynergysystem.com/ \n\n\nOfficial Website: https://mafisconference.com/ \n\n\nContact Information\n\n\nEmail: info@mafisconference.com \n\n\nWhatsApp: +62 811-227-479
URL:https://maqasid.org/event/the-international-conference-on-maqasid-al-wahy-mafis-2026/
LOCATION:Online via ZOOM
CATEGORIES:Forum
ATTACH;FMTTYPE=image/jpeg:https://maqasid.org/wp-content/uploads/2026/03/MAFIS-CFP-Update-2-Keynote-scaled-1.jpg
END:VEVENT
END:VCALENDAR